BEGIN:VCALENDAR
VERSION:2.0
PRODID:-//terracoopa - ECPv6.15.20//NONSGML v1.0//EN
CALSCALE:GREGORIAN
METHOD:PUBLISH
X-WR-CALNAME:terracoopa
X-ORIGINAL-URL:https://terracoopa.com
X-WR-CALDESC:Évènements pour terracoopa
REFRESH-INTERVAL;VALUE=DURATION:PT1H
X-Robots-Tag:noindex
X-PUBLISHED-TTL:PT1H
BEGIN:VTIMEZONE
TZID:Europe/Paris
BEGIN:DAYLIGHT
TZOFFSETFROM:+0100
TZOFFSETTO:+0200
TZNAME:CEST
DTSTART:20250330T010000
END:DAYLIGHT
BEGIN:STANDARD
TZOFFSETFROM:+0200
TZOFFSETTO:+0100
TZNAME:CET
DTSTART:20251026T010000
END:STANDARD
BEGIN:DAYLIGHT
TZOFFSETFROM:+0100
TZOFFSETTO:+0200
TZNAME:CEST
DTSTART:20260329T010000
END:DAYLIGHT
BEGIN:STANDARD
TZOFFSETFROM:+0200
TZOFFSETTO:+0100
TZNAME:CET
DTSTART:20261025T010000
END:STANDARD
BEGIN:DAYLIGHT
TZOFFSETFROM:+0100
TZOFFSETTO:+0200
TZNAME:CEST
DTSTART:20270328T010000
END:DAYLIGHT
BEGIN:STANDARD
TZOFFSETFROM:+0200
TZOFFSETTO:+0100
TZNAME:CET
DTSTART:20271031T010000
END:STANDARD
END:VTIMEZONE
BEGIN:VEVENT
DTSTART;VALUE=DATE:20260108
DTEND;VALUE=DATE:20260110
DTSTAMP:20260419T172852
CREATED:20251104T150228Z
LAST-MODIFIED:20251203T152346Z
UID:4891-1767830400-1768003199@terracoopa.com
SUMMARY:Formation Entretien des tracteurs - 8 et 9 janvier 2026
DESCRIPTION:Une formation pratique pour maîtriser la maintenance\, la sécurité et la performance de vos tracteurs. \nObjectif général\nAcquérir les connaissances et compétences nécessaires pour réaliser l’entretien courant\, identifier les anomalies et assurer la maintenance de base d’un tracteur en toute sécurité. \nInformations essentielles\n\n\nDurée : 2 jours (14 heures) \n\n\nModalité : Présentiel \n\n\nPublic visé : Conducteurs de tracteurs\, ouvriers agricoles\, techniciens de maintenance\, exploitants agricoles \n\n\nPrérequis : Aucun prérequis technique\, mais une expérience d’utilisation ou de conduite est un plus \n\n\n  \nTélécharger le programme :  Flyer Formation Entretien Tracteurs (2)
URL:https://terracoopa.com/event/formation-entretien-des-tracteurs-4-et-5-decembre-2025/
LOCATION:VIVIERS\, Domaine de Viviers\, CD 145\, 34830 Clapiers\, CLAPIERS\, 34830
CATEGORIES:Actu,Formation Agriculteur
ATTACH;FMTTYPE=image/jpeg:https://terracoopa.com/wp-content/uploads/2025/11/IMG-20231205-WA0000-e1762268844864.jpg
ORGANIZER;CN="Pellequer Diane":MAILTO:d.pellequer@terracoopa.com
END:VEVENT
END:VCALENDAR